BEGIN:VCALENDAR
VERSION:2.0
PRODID:-//Chapters//Event Calendar//EN
CALSCALE:GREGORIAN
METHOD:PUBLISH
BEGIN:VEVENT
UID:6dd89505-1edf-4a5a-ac71-6e762e666cc3@chapters.com
SUMMARY:May Chapter Meeting
DTSTAMP:20260421T221054Z
DTSTART:20260513T130000Z
DTEND:20260513T143000Z
STATUS:CONFIRMED
DESCRIPTION:View full details here: https://affiliate.shrm.org/content/shaw/branson/en/events/2026/05/may-chapter-meeting.html
URL:https://affiliate.shrm.org/content/shaw/branson/en/events/2026/05/may-chapter-meeting.html
END:VEVENT
END:VCALENDAR