BEGIN:VCALENDAR
VERSION:2.0
PRODID:-//Chapters//Event Calendar//EN
CALSCALE:GREGORIAN
METHOD:PUBLISH
BEGIN:VEVENT
UID:29fcfc44-b6c1-40b8-8ed8-09d30f3a4f1e@chapters.com
SUMMARY:Reasonable Suspicion Training
DTSTAMP:20260421T172511Z
DTSTART:20260507T140000Z
DTEND:20260507T170000Z
STATUS:CONFIRMED
DESCRIPTION:View full details here: https://affiliate.shrm.org/content/shaw/branson/en/events/2026/05/reasonable-suspicion-training.html
URL:https://affiliate.shrm.org/content/shaw/branson/en/events/2026/05/reasonable-suspicion-training.html
END:VEVENT
END:VCALENDAR