BEGIN:VCALENDAR
VERSION:2.0
PRODID:-//Chapters//Event Calendar//EN
CALSCALE:GREGORIAN
METHOD:PUBLISH
BEGIN:VEVENT
UID:d9ff788c-f6b8-4618-8a30-d899c57e30d5@chapters.com
SUMMARY:Sip & Share (in person)
DTSTAMP:20260421T205947Z
DTSTART:20260521T130000Z
DTEND:20260521T140000Z
STATUS:CONFIRMED
DESCRIPTION:View full details here: https://affiliate.shrm.org/content/shaw/branson/en/events/2026/05/sip---share--in-person-.html
URL:https://affiliate.shrm.org/content/shaw/branson/en/events/2026/05/sip---share--in-person-.html
END:VEVENT
END:VCALENDAR