BEGIN:VCALENDAR
VERSION:2.0
PRODID:-//Chapters//Event Calendar//EN
CALSCALE:GREGORIAN
METHOD:PUBLISH
BEGIN:VEVENT
UID:4081b54e-8f0f-4664-add5-5661a2f16d12@chapters.com
SUMMARY:Presidents and Presidents Elect Monthly Call
DTSTAMP:20260419T124837Z
DTSTART:20180612T120000Z
DTEND:20180612T130000Z
STATUS:CONFIRMED
DESCRIPTION:View full details here: https://affiliate.shrm.org/content/shaw/co/en/events/2018/06/presidents-and-presidents-elect-monthly-call.html
URL:https://affiliate.shrm.org/content/shaw/co/en/events/2018/06/presidents-and-presidents-elect-monthly-call.html
END:VEVENT
END:VCALENDAR