BEGIN:VCALENDAR
VERSION:2.0
PRODID:-//Chapters//Event Calendar//EN
CALSCALE:GREGORIAN
METHOD:PUBLISH
BEGIN:VEVENT
UID:b8ce8bdc-0150-46dc-bb2e-67dad32aa68f@chapters.com
SUMMARY:April HR Department of one
DTSTAMP:20260423T164223Z
DTSTART:20260429T150000Z
DTEND:20260429T160000Z
STATUS:CONFIRMED
DESCRIPTION:View full details here: https://affiliate.shrm.org/content/shaw/lrshrm/en/events/2026/april/april-hr-department-of-one.html
URL:https://affiliate.shrm.org/content/shaw/lrshrm/en/events/2026/april/april-hr-department-of-one.html
END:VEVENT
END:VCALENDAR