BEGIN:VCALENDAR
VERSION:2.0
PRODID:-//Chapters//Event Calendar//EN
CALSCALE:GREGORIAN
METHOD:PUBLISH
BEGIN:VEVENT
UID:e693989f-c0d7-4895-9efe-752df83d70ae@chapters.com
SUMMARY:May HR Dept of one Meeting
DTSTAMP:20260423T164224Z
DTSTART:20260527T150000Z
DTEND:20260527T160000Z
STATUS:CONFIRMED
DESCRIPTION:View full details here: https://affiliate.shrm.org/content/shaw/lrshrm/en/events/2026/may/may-hr-dept-of-one-meeting.html
URL:https://affiliate.shrm.org/content/shaw/lrshrm/en/events/2026/may/may-hr-dept-of-one-meeting.html
END:VEVENT
END:VCALENDAR