BEGIN:VCALENDAR
VERSION:2.0
PRODID:-//Chapters//Event Calendar//EN
CALSCALE:GREGORIAN
METHOD:PUBLISH
BEGIN:VEVENT
UID:1f7e6405-39cd-4dfc-a73c-541fb3a0f93e@chapters.com
SUMMARY:Internal Investigations
DTSTAMP:20260419T130252Z
DTSTART:20260812T190000Z
DTEND:20260812T210000Z
STATUS:CONFIRMED
DESCRIPTION:View full details here: https://affiliate.shrm.org/content/shaw/seia/en/events/2026/08/internal-investigations.html
URL:https://affiliate.shrm.org/content/shaw/seia/en/events/2026/08/internal-investigations.html
END:VEVENT
END:VCALENDAR